BEGIN:VCALENDAR
VERSION:2.0
PRODID:icalendar-ruby
CALSCALE:GREGORIAN
METHOD:PUBLISH
BEGIN:VEVENT
DTSTAMP:20260423T182942Z
UID:43-650717@lavinainver.com
DTSTART:20260924T003000Z
DTEND:20260924T013000Z
CLASS:PUBLIC
CREATED:20260423T131137
DESCRIPTION:
LAST-MODIFIED:20260423T131137
LOCATION:Subsuelo de la Iglesia
SUMMARY:Reunión de Oración
URL;VALUE=URI:https://www.lavinainver.com/events/reunion-de-oracion/2026-09
 -23
ATTACH;FILENAME=1000317012.png;FMTTYPE=image/png:https://dq5pwpg1q8ru0.clou
 dfront.net/2026/04/18/10/28/10/0e6d4574-2c57-4376-b319-652b42d449cb/100031
 7012.png
END:VEVENT
END:VCALENDAR
