BEGIN:VCALENDAR
VERSION:2.0
PRODID:icalendar-ruby
CALSCALE:GREGORIAN
METHOD:PUBLISH
BEGIN:VEVENT
DTSTAMP:20260423T205016Z
UID:10-650451@lavinainver.com
DTSTART:20261010T003000Z
DTEND:20261010T013000Z
CLASS:PUBLIC
CREATED:20260423T131136
DESCRIPTION:
LAST-MODIFIED:20260423T131136
LOCATION:Sanctuario de River Heights
SUMMARY:Oración
URL;VALUE=URI:https://www.lavinainver.com/events/oracion/2026-10-09
ATTACH;FILENAME=2.png;FMTTYPE=image/png:https://dq5pwpg1q8ru0.cloudfront.ne
 t/2024/11/22/00/44/33/13e43b9e-ed8b-436a-afcf-039116bcbf9e/2.png
END:VEVENT
END:VCALENDAR
