BEGIN:VCALENDAR
VERSION:2.0
PRODID:icalendar-ruby
CALSCALE:GREGORIAN
METHOD:PUBLISH
BEGIN:VEVENT
DTSTAMP:20260423T160847Z
UID:10-650020@lavinainver.com
DTSTART:20260919T003000Z
DTEND:20260919T013000Z
CLASS:PUBLIC
CREATED:20260423T101524
DESCRIPTION:
LAST-MODIFIED:20260423T101524
LOCATION:Sanctuario de River Heights
SUMMARY:Oración
URL;VALUE=URI:https://www.lavinainver.com/events/oracion/2026-09-18
ATTACH;FILENAME=2.png;FMTTYPE=image/png:https://dq5pwpg1q8ru0.cloudfront.ne
 t/2024/11/22/00/44/33/13e43b9e-ed8b-436a-afcf-039116bcbf9e/2.png
END:VEVENT
END:VCALENDAR
