BEGIN:VCALENDAR
VERSION:2.0
PRODID:icalendar-ruby
CALSCALE:GREGORIAN
METHOD:PUBLISH
BEGIN:VEVENT
DTSTAMP:20260420T080641Z
UID:14-641622@lavinainver.com
DTSTART:20260926T140000Z
DTEND:20260926T150000Z
CLASS:PUBLIC
CREATED:20260420T022248
DESCRIPTION:Únase a nuestro grupo de A.A.\, un lugar seguro donde comparti
 mos experiencias y apoyo mutuo en el camino hacia la recuperación. ¡Todo
 s son bienvenidos\, juntos es posible!
LAST-MODIFIED:20260420T022248
LOCATION:Nivel de bajo de la Iglesia
SUMMARY:Los Constructores
URL;VALUE=URI:https://www.lavinainver.com/events/los-constructores/2026-09-
 26
ATTACH;FILENAME=AA.png;FMTTYPE=image/png:https://dq5pwpg1q8ru0.cloudfront.n
 et/2024/11/27/16/31/42/6af05003-5b0f-4cb9-9593-bf0bfd08ce44/AA.png
END:VEVENT
END:VCALENDAR
