BEGIN:VCALENDAR
VERSION:2.0
PRODID:icalendar-ruby
CALSCALE:GREGORIAN
METHOD:PUBLISH
BEGIN:VEVENT
DTSTAMP:20260422T091626Z
UID:11-646706@lavinainver.com
DTSTART:20260923T233000Z
DTEND:20260924T010000Z
CLASS:PUBLIC
CREATED:20260421T201519
DESCRIPTION:
LAST-MODIFIED:20260421T201519
LOCATION:
SUMMARY:Grupo de Jovenes
URL;VALUE=URI:https://www.lavinainver.com/events/grupo-de-jovenes/2026-09-2
 3
ATTACH;FILENAME=jove.jpg;FMTTYPE=image/jpeg:https://dq5pwpg1q8ru0.cloudfron
 t.net/2025/01/14/00/12/21/9a8966db-dc4d-4099-9622-3fff7e651972/jove.jpg
END:VEVENT
END:VCALENDAR
