BEGIN:VCALENDAR
VERSION:2.0
PRODID:icalendar-ruby
CALSCALE:GREGORIAN
METHOD:PUBLISH
BEGIN:VEVENT
DTSTAMP:20260420T070842Z
UID:11-641094@lavinainver.com
DTSTART:20260916T233000Z
DTEND:20260917T010000Z
CLASS:PUBLIC
CREATED:20260419T224533
DESCRIPTION:
LAST-MODIFIED:20260419T224533
LOCATION:
SUMMARY:Grupo de Jovenes
URL;VALUE=URI:https://www.lavinainver.com/events/grupo-de-jovenes/2026-09-1
 6
ATTACH;FILENAME=jove.jpg;FMTTYPE=image/jpeg:https://dq5pwpg1q8ru0.cloudfron
 t.net/2025/01/14/00/12/21/9a8966db-dc4d-4099-9622-3fff7e651972/jove.jpg
END:VEVENT
END:VCALENDAR
